BEGIN:VCALENDAR
VERSION:2.0
PRODID:-//wp-events-plugin.com//7.2.3.1//EN
TZID:America/Detroit
X-WR-TIMEZONE:America/Detroit
BEGIN:VEVENT
UID:41235@annarborwithkids.com
DTSTART;TZID=America/Detroit:20250802T120000
DTEND;TZID=America/Detroit:20250802T210000
DTSTAMP:20250724T221937Z
URL:https://annarborwithkids.com/events/ann-arbor-pride-kid-zone/
SUMMARY:Ann Arbor Pride
DESCRIPTION:\nAnn Arbor Pride is Saturday\, August 2.\n\n\n\nThere will be 
 200+ vendors\, a KidZone\, Food Trucks\, 2 stages of entertainment\, Drag 
 Story Hour\, \n\n\n\nThere will be a Tie Dye Party setup outside at Blom M
 eadworks. Bring an item ($5 to Dye) or they'll have some thrifted items to
  dye. Proceeds benefit Jim Toy Community Center.\n\n\n\nYou can see announ
 cements of performers on their Facebook page\, but as of July 24\, I can't
  find a listing of when performances are. Typically shows are family-frien
 dly until later in the evening when they may include "colorful" language a
 nd more mature toipics.\n\n\n
CATEGORIES:Arbor Annie's Highlights,Elementary,Free,High
 Schoolers,LGBTQ+,Middle Schoolers,Parents,Preschoolers,Toddler
LOCATION:Main Street Area\, Main Street and Liberty\, Ann Arbor \, MI\, 481
 04\, Downtown\, United States
GEO:42.2795761;-83.74859989999999
X-APPLE-STRUCTURED-LOCATION;VALUE=URI;X-ADDRESS=Main Street and Liberty\, A
 nn Arbor \, MI\, 48104\, Downtown\, United States;X-APPLE-RADIUS=100;X-TIT
 LE=Main Street Area:geo:42.2795761,-83.74859989999999
END:VEVENT
BEGIN:VTIMEZONE
TZID:America/Detroit
X-LIC-LOCATION:America/Detroit
BEGIN:DAYLIGHT
DTSTART:20250309T030000
TZOFFSETFROM:-0500
TZOFFSETTO:-0400
TZNAME:EDT
END:DAYLIGHT
END:VTIMEZONE
END:VCALENDAR