BEGIN:VCALENDAR
VERSION:2.0
PRODID:-//wp-events-plugin.com//7.2.3.1//EN
TZID:America/Detroit
X-WR-TIMEZONE:America/Detroit
BEGIN:VEVENT
UID:65534@annarborwithkids.com
DTSTART;TZID=America/Detroit:20250704T100000
DTEND;TZID=America/Detroit:20250704T110000
DTSTAMP:20250516T184223Z
URL:https://annarborwithkids.com/events/ann-arbor-jaycees-parade/
SUMMARY:Ann Arbor Jaycees 4th of July Parade
DESCRIPTION:\nThe Ann Arbor Jaycees Fourth of July Parade &amp\; Festival i
 s returning downtown for 2025!\n\n\n\nThe parade also returns to its mostl
 y traditional route:\n\n\n\n\nNorth on State from N. University to Liberty
 \n\n\n\nWest on Liberty from State to Main\n\n\n\nSouth on Main from Liber
 ty to William\n\n\n\nEast on William from Main to Thompson\n\n\n\n\nDon't 
 miss running or watching the Firecracker 5K before the parade or the Firef
 ighter's Spray Park after. \n\n\n\nThe Ann Arbor 4th of July parade has tr
 aditionally been one of the best local parades. It typically lasts 45+ min
 utes and features many local organizations\, businesses\, and groups. Betw
 een construction causing route changes\, the pandemic\, more construction\
 , and a move to Briarwood the parade has shrunk in recent years. The 2024 
 parade had definitely grown over 2022 and 2023. Hopefully it continues to 
 grow in 2025.\n\n\n\n\n\n\n\n\n\nThe Firecracker 5K is also July 4th and i
 s also returning to downtown\n\n\n\n\n\nMore about the Ann Arbor Fourth of
  July Parade 2025\n\n\n\nBe sure to check out our full article on the para
 de for more details including the route and best places to park.\n\n\n\n\n
 \nMore Independence Day Celebrations\n\n\n\nCheck out more Fourth of July 
 fun including other Fourth of July parades near you in 2025 and fourth of 
 July firework shows.\n\n\n
ATTACH;FMTTYPE=image/jpeg:https://annarborwithkids.com/wp-content/uploads/
 ann-arbor-jaycees-fourth-of-july-parade-on-the-move-for-2023.jpg
CATEGORIES:Arbor Annie's Highlights,Babies,Display
 Image,Elementary,Free,High Schoolers,Independence Day,Middle
 Schoolers,Outdoor,Parade,Parents,Plus,Preschoolers,Sponsoring
 Event,Toddler
LOCATION:Main Street Area\, Main Street and Liberty\, Ann Arbor \, MI\, 481
 04\, Downtown\, United States
GEO:42.2795761;-83.74859989999999
X-APPLE-STRUCTURED-LOCATION;VALUE=URI;X-ADDRESS=Main Street and Liberty\, A
 nn Arbor \, MI\, 48104\, Downtown\, United States;X-APPLE-RADIUS=100;X-TIT
 LE=Main Street Area:geo:42.2795761,-83.74859989999999
END:VEVENT
BEGIN:VTIMEZONE
TZID:America/Detroit
X-LIC-LOCATION:America/Detroit
BEGIN:DAYLIGHT
DTSTART:20250309T030000
TZOFFSETFROM:-0500
TZOFFSETTO:-0400
TZNAME:EDT
END:DAYLIGHT
END:VTIMEZONE
END:VCALENDAR