BEGIN:VCALENDAR
VERSION:2.0
PRODID:-//wp-events-plugin.com//7.2.3.1//EN
TZID:America/Detroit
X-WR-TIMEZONE:America/Detroit
BEGIN:VEVENT
UID:92864@annarborwithkids.com
DTSTART;TZID=America/Detroit:20260328T133000
DTEND;TZID=America/Detroit:20260328T133000
DTSTAMP:20260309T183006Z
URL:https://annarborwithkids.com/events/ann-arbor-film-festival-films-in-c
 ompetition-9-almost-all-ages/
SUMMARY:Ann Arbor Film Festival: Films in Competition 9: Almost All Ages
DESCRIPTION:\nThis year’s lineup of family-friendly films features flower
  power\; an ode to father\, graphic designer\, and artist David Nerwen\; a
  day in the life of a little child\; explorations of post-petrochemical ci
 nema\; the act of failing and shedding skin\; intrinsic creative practices
 \; expired 16mm Ektachrome\; rhythmic expressions\; stories about the vill
 age of Haiyan\; and a missing cat.\n\n\n\nFor all ages. Held in the Main A
 uditorium at Michigan Theater. \n\n\n\nAnn Arbor District Library is the c
 ommunity partner for this showing.\n\n\n\n\n
CATEGORIES:Arbor Annie's Highlights,Elementary,High Schoolers,Indoor
 Activities,Middle Schoolers,Movies,Parents,Preschoolers
LOCATION:Michigan Theater\, 603 E. Liberty St\, Ann Arbor\, MI\, 48104\, Do
 wntown\, United States
GEO:42.279704;-83.742019
X-APPLE-STRUCTURED-LOCATION;VALUE=URI;X-ADDRESS=603 E. Liberty St\, Ann Arb
 or\, MI\, 48104\, Downtown\, United States;X-APPLE-RADIUS=100;X-TITLE=Mich
 igan Theater:geo:42.279704,-83.742019
END:VEVENT
BEGIN:VTIMEZONE
TZID:America/Detroit
X-LIC-LOCATION:America/Detroit
BEGIN:DAYLIGHT
DTSTART:20260308T030000
TZOFFSETFROM:-0500
TZOFFSETTO:-0400
TZNAME:EDT
END:DAYLIGHT
END:VTIMEZONE
END:VCALENDAR