BEGIN:VCALENDAR
VERSION:2.0
PRODID:-//wp-events-plugin.com//7.2.3.1//EN
TZID:America/Detroit
X-WR-TIMEZONE:America/Detroit
BEGIN:VEVENT
UID:93076@annarborwithkids.com
DTSTART;TZID=America/Detroit:20260509T140000
DTEND;TZID=America/Detroit:20260509T140000
DTSTAMP:20260401T201552Z
URL:https://annarborwithkids.com/events/ann-arbor-concert-band-shattering-
 glass-series-the-spectrum-of-sound/
SUMMARY:Ann Arbor Concert Band: Favorites 2.0
DESCRIPTION:\nThe Ann Arbor Concert Band with Artistic Director and Conduct
 or David Leach concludes their 47th Season performing a few of their favor
 ite band and wind ensemble compositions. Percy Grainger’s “Lincolnshi
 re Posy”\, the exhilarating “Festive Overture” by Dmitri Shostakov
 ich\, a band classic “Pageant”\, by Vincent Persichetti\, Robert Russ
 ell Bennet’s “Suite of Old American Dances” and MORE! \n\n\n\nThis
  concert will also feature their 2026 Andrew J. Lum &amp\; David R. Juile
 tt Young Artist Scholarship Competition Winner determined by audition in 
 February 2026.\n\n\n\nJoin them for great season ending performances!\n\n\
 n\nTickets are FREE for children 14 &amp\; under. Adult tickets are $15 an
 d $10 for students/seniors\n\n\n\n\n
CATEGORIES:Advance Registration,Arbor Annie's
 Highlights,Concert,Elementary,High Schoolers,Indoor Activities,Middle
 Schoolers,Music/Concerts,Parents
LOCATION:Michigan Theater\, 603 E. Liberty St\, Ann Arbor\, MI\, 48104\, Do
 wntown\, United States
GEO:42.279704;-83.742019
X-APPLE-STRUCTURED-LOCATION;VALUE=URI;X-ADDRESS=603 E. Liberty St\, Ann Arb
 or\, MI\, 48104\, Downtown\, United States;X-APPLE-RADIUS=100;X-TITLE=Mich
 igan Theater:geo:42.279704,-83.742019
END:VEVENT
BEGIN:VTIMEZONE
TZID:America/Detroit
X-LIC-LOCATION:America/Detroit
BEGIN:DAYLIGHT
DTSTART:20260308T030000
TZOFFSETFROM:-0500
TZOFFSETTO:-0400
TZNAME:EDT
END:DAYLIGHT
END:VTIMEZONE
END:VCALENDAR