BEGIN:VCALENDAR
VERSION:2.0
PRODID:-//wp-events-plugin.com//7.2.3.1//EN
TZID:America/Detroit
X-WR-TIMEZONE:America/Detroit
BEGIN:VEVENT
UID:92575@annarborwithkids.com
DTSTART;TZID=America/Detroit:20260315T120000
DTEND;TZID=America/Detroit:20260315T160000
DTSTAMP:20260219T163154Z
URL:https://annarborwithkids.com/events/ann-arbor-artfeminism-2026/
SUMMARY:Ann Arbor Art+Feminism 2026
DESCRIPTION:\nWhat does the future of feminist art look like in the age of 
 AI?\n\n\n\nArtists and activists who identify as women\, non-binary\, tran
 s\, queer\, Black\, Indigenous\, or people of color only make up a fractio
 n of contributors and content subjects in Wikimedia. As generative AI play
 s a larger role in the internet\, it is more important than ever to divers
 ify it. Join the workshop to learn how you can take action to address this
  imbalance by editing Wikipedia and Wikidata!\n\n\n\nThe event will kick o
 ff with a panel of University of Michigan faculty members on creating a fe
 minist\, inclusive\, and more equitable internet.\n\n\n\nThe presentation 
 will be followed by a Wikipedia and Wikidata Edit-a-thon. That’s right 
 – for the first time\, Ann Arbor Art + Feminism will incorporate Wikidat
 a as well as Wikipedia. Wikidata can be described as Wikipedia’s structu
 red data counterpart\, designed as an open platform that can be read and e
 dited by both humans and machines. Wikidata ensures that all Wikimedia pro
 jects – like Wikipedia and Wikimedia Commons – can get their informati
 on from the same place. As a freely available information resource\, it al
 so can be used to standardize and enrich other open databases and software
 . \n\n\n\nThey will provide a hands-on workshop for beginners\, reference 
 materials\, and lunch from Jerusalem Garden.\n\n\n\nThis event is in partn
 ership with the University of Michigan Library and LSA Technology Services
 .\n\n\n\nFor teens &amp\; adults. Held in Fourth Floor Program Room.\n
CATEGORIES:Arbor Annie's Highlights,Food,Free,High Schoolers,Indoor
 Activities,LGBTQ+,Parents,STEM,UM Parents,UM Students
LOCATION:Downtown Branch of AADL\, 343 South Fifth Avenue\, Ann Arbor\, Mic
 higan\, 48104\, Downtown\, United States
GEO:42.278198;-83.745971
X-APPLE-STRUCTURED-LOCATION;VALUE=URI;X-ADDRESS=343 South Fifth Avenue\, An
 n Arbor\, Michigan\, 48104\, Downtown\, United States;X-APPLE-RADIUS=100;X
 -TITLE=Downtown Branch of AADL:geo:42.278198,-83.745971
END:VEVENT
BEGIN:VTIMEZONE
TZID:America/Detroit
X-LIC-LOCATION:America/Detroit
BEGIN:DAYLIGHT
DTSTART:20260308T030000
TZOFFSETFROM:-0500
TZOFFSETTO:-0400
TZNAME:EDT
END:DAYLIGHT
END:VTIMEZONE
END:VCALENDAR