BEGIN:VCALENDAR
VERSION:2.0
PRODID:-//wp-events-plugin.com//7.2.3.1//EN
TZID:America/Detroit
X-WR-TIMEZONE:America/Detroit
BEGIN:VEVENT
UID:92874@annarborwithkids.com
DTSTART;TZID=America/Detroit:20260403T130000
DTEND;TZID=America/Detroit:20260403T143000
DTSTAMP:20260309T205022Z
URL:https://annarborwithkids.com/events/animal-tracks-3/
SUMMARY:Animal Tracks
DESCRIPTION:\nGet to know which animals live in Ann Arbor by looking for th
 eir tracks in&nbsp\;Stapp Nature Area. We’ll learn what different tracks
  look like inside the library and then we’ll head out to find them! Dres
 s for the weather and a one-mile hike on a dirt path.&nbsp\;\n\n\n\nThis e
 vent is in partnership with the City of Ann Arbor.\n\n\n\nFor grades K-5.\
 n\n\n\n\n
CATEGORIES:Animals,Arbor Annie's Highlights,Elementary,Free,Outdoor
LOCATION:Traverwood Branch of AADL\, 3333 Traverwood Dr\, Ann Arbor\, Michi
 gan\, 48105\, North Ann Arbor\, United States
GEO:42.307952;-83.71480500000001
X-APPLE-STRUCTURED-LOCATION;VALUE=URI;X-ADDRESS=3333 Traverwood Dr\, Ann Ar
 bor\, Michigan\, 48105\, North Ann Arbor\, United States;X-APPLE-RADIUS=10
 0;X-TITLE=Traverwood Branch of AADL:geo:42.307952,-83.71480500000001
END:VEVENT
BEGIN:VTIMEZONE
TZID:America/Detroit
X-LIC-LOCATION:America/Detroit
BEGIN:DAYLIGHT
DTSTART:20260308T030000
TZOFFSETFROM:-0500
TZOFFSETTO:-0400
TZNAME:EDT
END:DAYLIGHT
END:VTIMEZONE
END:VCALENDAR