BEGIN:VCALENDAR
VERSION:2.0
PRODID:-//wp-events-plugin.com//7.2.3.1//EN
TZID:America/Detroit
X-WR-TIMEZONE:America/Detroit
BEGIN:VEVENT
UID:33481@annarborwithkids.com
DTSTART;TZID=America/Detroit:20251025T160000
DTEND;TZID=America/Detroit:20251025T200000
DTSTAMP:20250923T211827Z
URL:https://annarborwithkids.com/events/animal-haunts-4/
SUMMARY:Animal Haunts
DESCRIPTION:\nLeslie Science &amp\; Nature Center's annual Halloween celebr
 ation Animal Haunts is back for 2024. Animal Haunts is a candy free\, non-
 spooky events for families.\n\n\n\nThere are two sessions - 4-6p during da
 ylight and 6-8p after dark.\n\n\n\n👣 Stroll through Black Pond Woods on
  the Mystery Hike and meet costumed characters🐍 Visit live animals at t
 he Critter House🔬 Experiment with spooky science🎨 Create a harvest c
 raft to take home🎭 Show off your costume and play games at the Harvest 
 Carnival\n\n\n\nNote\, the Black Pond hike trail is not stroller or wheelc
 hair friendly. The rest of the event is accessible via a stroller and whee
 lchair friendly trail.\n\n\n\n\n\n\n\n\n\n[wpv-view name="activity-by-shor
 tcode-search" search="leslie science"]\n\n\n\n\n
CATEGORIES:Advance Registration,Age Range,Animals,Arbor Annie's
 Highlights,Elementary,Fall Fun,Halloween,Middle
 Schoolers,Parents,Preschoolers,Toddler
LOCATION:Leslie Science & Nature Center\, 1831 Traver Rd\, Ann Arbor\, MI\,
  48105\, North Ann Arbor\, United States
GEO:42.30078700000001;-83.73028399999998
X-APPLE-STRUCTURED-LOCATION;VALUE=URI;X-ADDRESS=1831 Traver Rd\, Ann Arbor\
 , MI\, 48105\, North Ann Arbor\, United States;X-APPLE-RADIUS=100;X-TITLE=
 Leslie Science & Nature Center:geo:42.30078700000001,-83.73028399999998
END:VEVENT
BEGIN:VTIMEZONE
TZID:America/Detroit
X-LIC-LOCATION:America/Detroit
BEGIN:DAYLIGHT
DTSTART:20250309T030000
TZOFFSETFROM:-0500
TZOFFSETTO:-0400
TZNAME:EDT
END:DAYLIGHT
END:VTIMEZONE
END:VCALENDAR