BEGIN:VCALENDAR
VERSION:2.0
PRODID:-//wp-events-plugin.com//7.2.3.1//EN
TZID:America/Detroit
X-WR-TIMEZONE:America/Detroit
BEGIN:VEVENT
UID:90269@annarborwithkids.com
DTSTART;TZID=America/Detroit:20260330T180000
DTEND;TZID=America/Detroit:20260330T190000
DTSTAMP:20260309T194115Z
URL:https://annarborwithkids.com/events/and-still-we-rise-from-the-america
 n-indian-movement-to-today-1960-present/
SUMMARY:And Still We Rise: From the American Indian Movement to Today: 1960
 –Present
DESCRIPTION:\nThe 1960s were a pivotal time in the United States. The civil
  rights movement was sweeping the nation\, and among these was the America
 n Indian Movement. Continue to move through history with AIM in the 1960s\
 , a resurgence of Federal Indian Policy in the 1970s with the Indian Child
  Welfare Act\, the continued fight for tribal sovereignty\, and through th
 e protests at Standing Rock and the emergence of the Land Back Movement. T
 his lecture begins in the 1960s and takes you up to the present day.\n\n\n
 \nHeather Bruegl\, inspired by a trip to Wounded Knee\, South Dakota\, qui
 ckly developed a passion for Native American History. Curiosity for her ow
 n heritage led her to Wisconsin\, where she has researched the history of 
 the Native American tribes of that region. Heather is a graduate of Madonn
 a University of Michigan and holds a Bachelor of Arts and Master of Arts i
 n U.S. History. She currently travels and lectures on Native American hist
 ory\, including policy and activism.\n\n\n\nFor adults and teens. Held in 
 4th Floor Program Room.\n\n\n\n\n
CATEGORIES:Arbor Annie's Highlights,BIPOC,Free,High
 Schoolers,History,Indoor Activities,Parents
LOCATION:Downtown Branch of AADL\, 343 South Fifth Avenue\, Ann Arbor\, Mic
 higan\, 48104\, Downtown\, United States
GEO:42.278198;-83.745971
X-APPLE-STRUCTURED-LOCATION;VALUE=URI;X-ADDRESS=343 South Fifth Avenue\, An
 n Arbor\, Michigan\, 48104\, Downtown\, United States;X-APPLE-RADIUS=100;X
 -TITLE=Downtown Branch of AADL:geo:42.278198,-83.745971
END:VEVENT
BEGIN:VTIMEZONE
TZID:America/Detroit
X-LIC-LOCATION:America/Detroit
BEGIN:DAYLIGHT
DTSTART:20260308T030000
TZOFFSETFROM:-0500
TZOFFSETTO:-0400
TZNAME:EDT
END:DAYLIGHT
END:VTIMEZONE
END:VCALENDAR