BEGIN:VCALENDAR
VERSION:2.0
PRODID:-//wp-events-plugin.com//7.2.3.1//EN
TZID:America/Detroit
X-WR-TIMEZONE:America/Detroit
BEGIN:VEVENT
UID:91645@annarborwithkids.com
DTSTART;TZID=America/Detroit:20260307T153000
DTEND;TZID=America/Detroit:20260307T172000
DTSTAMP:20260119T204406Z
URL:https://annarborwithkids.com/events/american-girl-workshops/
SUMMARY:American Girl Workshops
DESCRIPTION:\nSaline Rec Center is holding an American Girl Day! They have 
 expanded the event to include workshops this year. \n\n\n\nThe workshops a
 re for ages 10-adult. However\, an adult needs to accompany tweens/teens f
 rom ages 10-15. The accompanying adult may participate or just assist. The
 re are 4 workshops offered in 2 different time slots.\n\n\n\n\n3:30-4:20p 
 -\n\nDoll Hair Restoration\n\n\n\nRe-Stringing\n\n\n\n\n\n4:30-5:20p\n\nLi
 ght Customization\n\n\n\nJewelry Making for Dolls\n\n\n\n\n\n\nEach worksh
 op is  $15/Participant\, $5/adult companion\n\n\n\nIn addition to the work
 shops\, there is an American Girl Tea Party and the American Girl Sale ear
 lier in the day\n
CATEGORIES:Advance Registration,Arbor Annie's
 Highlights,Crafts,Elementary,High Schoolers,Indoor Activities,Middle
 Schoolers,Parents,Pop Culture,Registration Required
LOCATION:Saline Rec Center\, 1866 Woodland Dr\, Saline\, MI\, 48176\, Salin
 e\, United States
GEO:42.195868;-83.76643200000001
X-APPLE-STRUCTURED-LOCATION;VALUE=URI;X-ADDRESS=1866 Woodland Dr\, Saline\,
  MI\, 48176\, Saline\, United States;X-APPLE-RADIUS=100;X-TITLE=Saline Rec
  Center:geo:42.195868,-83.76643200000001
END:VEVENT
BEGIN:VTIMEZONE
TZID:America/Detroit
X-LIC-LOCATION:America/Detroit
BEGIN:STANDARD
DTSTART:20251102T010000
TZOFFSETFROM:-0400
TZOFFSETTO:-0500
TZNAME:EST
END:STANDARD
END:VTIMEZONE
END:VCALENDAR