BEGIN:VCALENDAR
VERSION:2.0
PRODID:-//wp-events-plugin.com//7.2.3.1//EN
TZID:America/Detroit
X-WR-TIMEZONE:America/Detroit
BEGIN:VEVENT
UID:80847@annarborwithkids.com
DTSTART;TZID=America/Detroit:20251025T110000
DTEND;TZID=America/Detroit:20251025T150000
DTSTAMP:20251009T182947Z
URL:https://annarborwithkids.com/events/all-you-can-carry-pumpkins/
SUMMARY:All You Can Carry Pumpkins
DESCRIPTION:\nBlast Corn Maze is holding an All You Can Carry Pumpkin Day.\
 n\n\n\nThey will have all their usual fall farm fun (u-pick pumpkin patch\
 , corn maze\, hayride\, farm animals\, pedal cars\, and straw maze) plus y
 ard games and more.\n\n\n\nBut\, the pumpkins will be $10 for all you can 
 carry (in 1 trip) down their 25' pumpkin lane.\n\n\n\n\n\n\n\nCheck out th
 is Instagram Reel from our 2022 visit\n\n\n\n\nhttps://www.instagram.com/p
 /CjwbwraDd5e\n\n\n\n\n\n\nWe love visiting Blast for their Corn Maze\, hay
  ride\, and other fun activities. Check out our 2018 review of Blast Corn 
 Maze.\n\n\n\n\n\n\n\n\n\n\n\n\n
CATEGORIES:Advance Registration,Animals,Arbor Annie's
 Highlights,Babies,Elementary,Fall Fun,Games,Halloween,High
 Schoolers,Middle Schoolers,Outdoor,Parents,Preschoolers,Toddler
LOCATION:Blast Corn Maze\, 6175 Daly Road \, Dexter\, Michigan\, 48130\, De
 xter\, United States
X-APPLE-STRUCTURED-LOCATION;VALUE=URI;X-ADDRESS=6175 Daly Road \, Dexter\, 
 Michigan\, 48130\, Dexter\, United States;X-APPLE-RADIUS=100;X-TITLE=Blast
  Corn Maze:geo:0,0
END:VEVENT
BEGIN:VTIMEZONE
TZID:America/Detroit
X-LIC-LOCATION:America/Detroit
BEGIN:DAYLIGHT
DTSTART:20250309T030000
TZOFFSETFROM:-0500
TZOFFSETTO:-0400
TZNAME:EDT
END:DAYLIGHT
END:VTIMEZONE
END:VCALENDAR