BEGIN:VCALENDAR
VERSION:2.0
PRODID:-//wp-events-plugin.com//7.2.3.1//EN
TZID:America/Detroit
X-WR-TIMEZONE:America/Detroit
BEGIN:VEVENT
UID:59260@annarborwithkids.com
DTSTART;TZID=America/Detroit:20201031T100000
DTEND;TZID=America/Detroit:20201031T140000
DTSTAMP:20201027T155054Z
URL:https://annarborwithkids.com/events/all-hallows-read/
SUMMARY:All Hallow's Read
DESCRIPTION:\nThe Manchester District Library is holding their annual All H
 allow's Read. They will be giving out books instead of candy. Choose betwe
 en Pete the Cat or How to Draw Your Own Monster.\n\n\n\nThe teen area will
  host a decoupage bookpage pumpkin craft.\n\n\n\n\n\n\n\nThey are also hos
 ting an outdoor storytime at 11a.\n
CATEGORIES:Elementary,Halloween,High Schoolers,Middle
 Schoolers,Preschoolers,Toddler
LOCATION:Manchester District Library\, 912 City Rd\, Manchester\, Michigan\
 , 48158\, Manchester\, United States
GEO:42.150142;-84.02403500000003
X-APPLE-STRUCTURED-LOCATION;VALUE=URI;X-ADDRESS=912 City Rd\, Manchester\, 
 Michigan\, 48158\, Manchester\, United States;X-APPLE-RADIUS=100;X-TITLE=M
 anchester District Library:geo:42.150142,-84.02403500000003
END:VEVENT
BEGIN:VTIMEZONE
TZID:America/Detroit
X-LIC-LOCATION:America/Detroit
BEGIN:DAYLIGHT
DTSTART:20200308T030000
TZOFFSETFROM:-0500
TZOFFSETTO:-0400
TZNAME:EDT
END:DAYLIGHT
END:VTIMEZONE
END:VCALENDAR