BEGIN:VCALENDAR
VERSION:2.0
PRODID:-//wp-events-plugin.com//7.2.3.1//EN
TZID:America/Detroit
X-WR-TIMEZONE:America/Detroit
BEGIN:VEVENT
UID:53636@annarborwithkids.com
DTSTART;TZID=America/Detroit:20251101T180000
DTEND;TZID=America/Detroit:20251101T210000
DTSTAMP:20251010T204322Z
URL:https://annarborwithkids.com/events/all-hallows-illumination/
SUMMARY:All Hallows Illumination
DESCRIPTION:\nAfter a year off in 2024\, All Hallows Illumination makes a r
 eturn in 2025. This year it is sponsored by First Fridays Ypsilanti and Ho
 ly Bones Artisan Market.\n\n\n\n🎃 Bring your carved pumpkins to add to 
 the community pumpkin display.🎶 Spooky Music and Fall Favorites spun by
  a DJ🎨 Mini Artisan Market🐾 Pet Costume Parade👻 Costumes Encourag
 ed\n\n\n\nAll Hallows Illumination is a FREE Family-friendly event.\n\n\n\
 n\n\n\n\n\n
CATEGORIES:Arbor Annie's Highlights,Elementary,Fall
 Fun,Free,Halloween,High Schoolers,Middle Schoolers,Parents,Preschoolers
LOCATION:Frog Island Park\, 699 Rice St\, Ypsilanti\, Michigan\, 48198\, Yp
 silanti\, United States
GEO:42.2469141;-83.61062879999997
X-APPLE-STRUCTURED-LOCATION;VALUE=URI;X-ADDRESS=699 Rice St\, Ypsilanti\, M
 ichigan\, 48198\, Ypsilanti\, United States;X-APPLE-RADIUS=100;X-TITLE=Fro
 g Island Park:geo:42.2469141,-83.61062879999997
END:VEVENT
BEGIN:VTIMEZONE
TZID:America/Detroit
X-LIC-LOCATION:America/Detroit
BEGIN:DAYLIGHT
DTSTART:20250309T030000
TZOFFSETFROM:-0500
TZOFFSETTO:-0400
TZNAME:EDT
END:DAYLIGHT
END:VTIMEZONE
END:VCALENDAR