BEGIN:VCALENDAR
VERSION:2.0
PRODID:-//wp-events-plugin.com//7.2.3.1//EN
TZID:America/Detroit
X-WR-TIMEZONE:America/Detroit
BEGIN:VEVENT
UID:86640@annarborwithkids.com
DTSTART;TZID=America/Detroit:20250705T080000
DTEND;TZID=America/Detroit:20250705T110000
DTSTAMP:20250505T204828Z
URL:https://annarborwithkids.com/events/all-american-4-8-mile-ann-arbor/
SUMMARY:All American 4 &amp\; 8 Mile - Ann Arbor
DESCRIPTION:\nJoin Bodies Race Company for the annual All American 4 &amp\;
  8 mile! A patriotic-themed event that is perfect for the whole family.\n\
 n\n\nThe fun includes –\n\n\n\nGreat Swag – designer shirt &amp\; cust
 om medalChip-timing with live results and awardsFree photosDelicious Treat
 s waiting at the finish lineFREE Ice Cream!Plenty of fun!\n\n\n\nGrab your
  friends and family\, you are not going to want to miss this one!\n\n\n\nC
 an't make the race? No problem! They offer a virtual race option where you
  can run anywhere\, at any time\, and still earn the fun swag!\n\n\n\n*You
 th-based pricing for the 1\, 4 &amp\; 8 Mile\, 12 &amp\; Under are only $1
 7\n\n\n\n4 &amp\; 8 Mile registration includes a custom bib\, designer shi
 rt\, and an awesome finisher medal!\n\n\n\n1 Mile registration is untimed 
 and includes a custom bib\, designer shirt\, and an awesome finisher medal
 !\n\n\n\nThe kid's dash is a fun\, untimed dash for kiddos ages 10 and und
 er. Registration includes a mini bib\, youth-sized shirt\, and a specifica
 lly crafted medal for the kids' dash event! (If your child wants to run th
 e kid's dash\, and doesn't want the SWAG\, they are welcome to run on race
  day for free!)\n\n\n\n*Register by midnight on Thursday\, two Thursdays b
 efore race day\, to guarantee your shirt!\n\n\n\n\n\n\n
CATEGORIES:Advance Registration,Arbor Annie's
 Highlights,Elementary,Food,High Schoolers,Independence Day,Middle
 Schoolers,Outdoor,Parents,Race,Registration Required
LOCATION:South Lyon High School\, 1000 North Lafayette St\, South Lyon\, Mi
 chigan\, 48178\, South Lyon\, United States
GEO:42.473735;-83.650304
X-APPLE-STRUCTURED-LOCATION;VALUE=URI;X-ADDRESS=1000 North Lafayette St\, S
 outh Lyon\, Michigan\, 48178\, South Lyon\, United States;X-APPLE-RADIUS=1
 00;X-TITLE=South Lyon High School:geo:42.473735,-83.650304
END:VEVENT
BEGIN:VTIMEZONE
TZID:America/Detroit
X-LIC-LOCATION:America/Detroit
BEGIN:DAYLIGHT
DTSTART:20250309T030000
TZOFFSETFROM:-0500
TZOFFSETTO:-0400
TZNAME:EDT
END:DAYLIGHT
END:VTIMEZONE
END:VCALENDAR