BEGIN:VCALENDAR
VERSION:2.0
PRODID:-//wp-events-plugin.com//7.2.3.1//EN
TZID:America/Detroit
X-WR-TIMEZONE:America/Detroit
BEGIN:VEVENT
UID:62106@annarborwithkids.com
DTSTART;TZID=America/Detroit:20260417T163000
DTEND;TZID=America/Detroit:20260417T180000
DTSTAMP:20260324T175356Z
URL:https://annarborwithkids.com/events/all-ages-clay-toadstool-fairy-hous
 es/
SUMMARY:Family Friday Clay Mushroom Fairy Houses
DESCRIPTION:\nSpring has Sprung! Celebrate the season by crafting your own 
 one-of-a-kind Mushroom Fairy House and welcome a little magic into your li
 fe. Deanne will take participants step-by-step through the design and impl
 ementation process\, demonstrating fundamental handbuilding skills in the 
 process. Once your Fairy House is crafted\, you will use colorful slip to 
 paint bold and bright designs of your choice. This workshop is fun for the
  whole family! Each participant will create one Mushroom Fairy House.\n\n\
 n\nThis class is for ages 8+. Adults that are just helping their child and
  not making their own project do not need to register.\n\n\n\nThe class&nb
 sp\;costs $45. Class space is limited\,&nbsp\;so register&nbsp\;soon to re
 serve your spot.\n\n\n\n\n
CATEGORIES:Advance Registration,Arbor Annie's
 Highlights,Art,Elementary,Fairy,High Schoolers,Middle
 Schoolers,Parents,Registration Required
LOCATION:Ann Arbor Art Center\, 117 W. Liberty St\, Ann Arbor\, Michigan\, 
 48104\, Downtown\, United States
GEO:42.279384;-83.74955
X-APPLE-STRUCTURED-LOCATION;VALUE=URI;X-ADDRESS=117 W. Liberty St\, Ann Arb
 or\, Michigan\, 48104\, Downtown\, United States;X-APPLE-RADIUS=100;X-TITL
 E=Ann Arbor Art Center:geo:42.279384,-83.74955
END:VEVENT
BEGIN:VTIMEZONE
TZID:America/Detroit
X-LIC-LOCATION:America/Detroit
BEGIN:DAYLIGHT
DTSTART:20260308T030000
TZOFFSETFROM:-0500
TZOFFSETTO:-0400
TZNAME:EDT
END:DAYLIGHT
END:VTIMEZONE
END:VCALENDAR