BEGIN:VCALENDAR
VERSION:2.0
PRODID:-//wp-events-plugin.com//7.2.3.1//EN
TZID:America/Detroit
X-WR-TIMEZONE:America/Detroit
BEGIN:VEVENT
UID:38085@annarborwithkids.com
DTSTART;TZID=America/Detroit:20260501T163000
DTEND;TZID=America/Detroit:20260501T180000
DTSTAMP:20260324T180837Z
URL:https://annarborwithkids.com/events/all-ages-clay-mobiles/
SUMMARY:Family Friday: Clay Fairy Doors
DESCRIPTION:\nSpring has Sprung! Celebrate the season by crafting your own 
 one-of-a-kind Fairy Door and welcome a little magic into your life. Deanne
  will take participants step-by-step through the design and implementation
  process\, demonstrating fundamental handbuilding skills in the process. O
 nce your Fairy Door is crafted\, you will use colorful slip to paint bold 
 and bright designs of your choice. This workshop is fun for the whole fami
 ly! Each participant will create one Fairy Door. Some things to note: Clay
  studios have bright\, overhead lighting and soft music may be played duri
 ng class time. Working with clay can be messy\, so come prepared! Aprons a
 re available for use.\n\n\n\nThis class is for ages 8+. Adults that are ac
 comanying/assisting their child do not need to register\n\n\n\nThe class 
 costs $45. Class space is limited\, so register soon to reserve your spo
 t. They will form a wait list when it sells out.\n\n\n\n\n
CATEGORIES:Advance Registration,Arbor Annie's
 Highlights,Art,Elementary,Fairy,High Schoolers,Middle
 Schoolers,Parents,Preschoolers,Registration Required,Sold Out
LOCATION:Ann Arbor Art Center\, 117 W. Liberty St\, Ann Arbor\, Michigan\, 
 48104\, Downtown\, United States
GEO:42.279384;-83.74955
X-APPLE-STRUCTURED-LOCATION;VALUE=URI;X-ADDRESS=117 W. Liberty St\, Ann Arb
 or\, Michigan\, 48104\, Downtown\, United States;X-APPLE-RADIUS=100;X-TITL
 E=Ann Arbor Art Center:geo:42.279384,-83.74955
END:VEVENT
BEGIN:VTIMEZONE
TZID:America/Detroit
X-LIC-LOCATION:America/Detroit
BEGIN:DAYLIGHT
DTSTART:20260308T030000
TZOFFSETFROM:-0500
TZOFFSETTO:-0400
TZNAME:EDT
END:DAYLIGHT
END:VTIMEZONE
END:VCALENDAR