BEGIN:VCALENDAR
VERSION:2.0
PRODID:-//wp-events-plugin.com//7.2.3.1//EN
TZID:America/Detroit
X-WR-TIMEZONE:America/Detroit
BEGIN:VEVENT
UID:76897@annarborwithkids.com
DTSTART;TZID=America/Detroit:20240316T130000
DTEND;TZID=America/Detroit:20240316T140000
DTSTAMP:20240313T235349Z
URL:https://annarborwithkids.com/events/all-about-eclipses/
SUMMARY:All About Eclipses
DESCRIPTION:\nOn April 8th 2024 there will be a total solar eclipse visible
  from the United States. This family oriented event will have several acti
 vity tables intended to educate about the causes of eclipses and how to vi
 ew them safely. \n\n\n\nThe event is aimed at families with children 6-11 
 but will include activities for younger children and information for lifel
 ong learners.\n\n\n\nHeld in First Floor Lobby\n\n\n\n[wpv-view name="post
 s-by-id-shortcode" ids="53206"]\n
CATEGORIES:Arbor Annie's Highlights,Elementary,Free,Indoor
 Activities,Middle Schoolers,STEM
LOCATION:Downtown Branch of AADL\, 343 South Fifth Avenue\, Ann Arbor\, Mic
 higan\, 48104\, Downtown\, United States
GEO:42.278198;-83.745971
X-APPLE-STRUCTURED-LOCATION;VALUE=URI;X-ADDRESS=343 South Fifth Avenue\, An
 n Arbor\, Michigan\, 48104\, Downtown\, United States;X-APPLE-RADIUS=100;X
 -TITLE=Downtown Branch of AADL:geo:42.278198,-83.745971
END:VEVENT
BEGIN:VTIMEZONE
TZID:America/Detroit
X-LIC-LOCATION:America/Detroit
BEGIN:DAYLIGHT
DTSTART:20240310T030000
TZOFFSETFROM:-0500
TZOFFSETTO:-0400
TZNAME:EDT
END:DAYLIGHT
END:VTIMEZONE
END:VCALENDAR