BEGIN:VCALENDAR
VERSION:2.0
PRODID:-//wp-events-plugin.com//7.2.3.1//EN
TZID:America/Detroit
X-WR-TIMEZONE:America/Detroit
BEGIN:VEVENT
UID:93486@annarborwithkids.com
DTSTART;TZID=America/Detroit:20260516T093000
DTEND;TZID=America/Detroit:20260516T170000
DTSTAMP:20260406T003548Z
URL:https://annarborwithkids.com/events/all-aboard-adventure-2026-05-16/
SUMMARY:All Aboard Adventure
DESCRIPTION:\nHead to Greenfield Village\, for their new weekend event - Al
 l Aboard Adventure. It is a village-wide family-friendly celebration of st
 eam\, big machines and classic play. It is a replacement since Thomas the 
 Tank Engine will not be visiting Greenfield Village this year. \n\n\n\n\n\
 nEnjoy unlimited steam and diesel train rides designed to spark imaginatio
 n and behind-the-scenes railway access. You can push a discovery railcar\,
  help maneuver the historic DT&amp\;M Roundhouse turntable\, sit in the ca
 b of the 1897 D&amp\;LN #7 locomotive and watch a working crane in motion.
 \n\n\n\n\n\n\n\nLittle explorers can also climb aboard working emergency a
 nd construction vehicles at Detroit Central Market. \n\n\n\nThere will be 
 lawn games and open-air amusements on the Village Green. Plus\, enjoy stor
 y times\, live music and crafts throughout the day.\n\n\n\n\n
CATEGORIES:Advance Registration,Arbor Annie's Highlights,Elementary,High
 Schoolers,Middle Schoolers,Outdoor,Parents,Preschoolers,Toddler,Vehicles
LOCATION:Greenfield Village\, 20900 Oakwood Blvd\, Dearborn\, Michigan\, 48
 124\, Dearborn\, United States
GEO:42.3026973;-83.23508770000001
X-APPLE-STRUCTURED-LOCATION;VALUE=URI;X-ADDRESS=20900 Oakwood Blvd\, Dearbo
 rn\, Michigan\, 48124\, Dearborn\, United States;X-APPLE-RADIUS=100;X-TITL
 E=Greenfield Village:geo:42.3026973,-83.23508770000001
END:VEVENT
BEGIN:VTIMEZONE
TZID:America/Detroit
X-LIC-LOCATION:America/Detroit
BEGIN:DAYLIGHT
DTSTART:20260308T030000
TZOFFSETFROM:-0500
TZOFFSETTO:-0400
TZNAME:EDT
END:DAYLIGHT
END:VTIMEZONE
END:VCALENDAR