BEGIN:VCALENDAR
VERSION:2.0
PRODID:-//wp-events-plugin.com//7.2.3.1//EN
TZID:America/Detroit
X-WR-TIMEZONE:America/Detroit
BEGIN:VEVENT
UID:31711@annarborwithkids.com
DTSTART;TZID=America/Detroit:20250607T090000
DTEND;TZID=America/Detroit:20250607T200000
DTSTAMP:20250527T005723Z
URL:https://annarborwithkids.com/events/african-american-downtown-festival
 -2/
SUMMARY:African American Downtown Festival
DESCRIPTION:\nThe African American Downtown Festival is held each year at t
 he beginning of June. The festival is held in the historic black business 
 district of the old 4th ward and Kerrytown.\n\n\n\nThere will be music and
  performances\, food for purchase\, vendors\, and kids activities. Kids Ko
 rner is in the Washtenaw County Courthouse parking lot at Main &amp\; Ann 
 St.\n\n\n\n\n\nSome highlights for the kids:\n\n\n\n\n9a - Vendors Open\n\
 n\n\nnoon-5p Kids Korner Open - \n\nGiant Games from AADL\n\n\n\nCotton Ca
 ndy Making\n\n\n\nHands on Arts &amp\; Crafts with Dr. Susan Gelman Concep
 tual Lab at the University of Michigan\n\n\n\n3D Art Demos &amp\; Make It 
 Take It Crafts. UM Children's Center\n\n\n\nActivities with LSNC &amp\; AA
 HOM\n\n\n\nBounce Houses\n\n\n\nYouth Vendors including Addison's Lemonade
 \n\n\n\n\n\nnoon-1:30p - Exotic Mobile Zoo\n\n\n\nnoon-3p - Face Painting 
 by Colorful Events\n\n\n\nnoon-4p - Bike repair Demos\n\n\n\n1:30\, 3:30\,
  &amp\; 5p - BIG Best in Games - Cornhole Tournament\n\n\n\n2-4p Balloon T
 wisting with Twist &amp\; Shout the Clown\n\n\n\n\n\n\n\n\n\n\nGet the Ful
 l Schedule Here\n
CATEGORIES:Age Range,Arbor Annie's Highlights,Babies,Cultural
 Celebration,Elementary,Free,High Schoolers,Middle
 Schoolers,Parents,Preschoolers,Toddler
LOCATION:N. Fourth Avenue between Ann & Catherine\, N. Fourth Avenue and An
 n St\, Ann Arbor\, Michigan\, 48104\, Downtown\, United States
GEO:42.2823165;-83.7472138
X-APPLE-STRUCTURED-LOCATION;VALUE=URI;X-ADDRESS=N. Fourth Avenue and Ann St
 \, Ann Arbor\, Michigan\, 48104\, Downtown\, United States;X-APPLE-RADIUS=
 100;X-TITLE=N. Fourth Avenue between Ann & Catherine:geo:42.2823165,-83.74
 72138
END:VEVENT
BEGIN:VTIMEZONE
TZID:America/Detroit
X-LIC-LOCATION:America/Detroit
BEGIN:DAYLIGHT
DTSTART:20250309T030000
TZOFFSETFROM:-0500
TZOFFSETTO:-0400
TZNAME:EDT
END:DAYLIGHT
END:VTIMEZONE
END:VCALENDAR