BEGIN:VCALENDAR
VERSION:2.0
PRODID:-//wp-events-plugin.com//7.2.3.1//EN
TZID:America/Detroit
X-WR-TIMEZONE:America/Detroit
BEGIN:VEVENT
UID:77975@annarborwithkids.com
DTSTART;TZID=America/Detroit:20250629T150000
DTEND;TZID=America/Detroit:20250629T150000
DTSTAMP:20250530T145145Z
URL:https://annarborwithkids.com/events/afc-ann-arbor-womens-final-home-ga
 me-vs-detroit-city-fc/
SUMMARY:AFC Ann Arbor (Women's) Final Home Game vs Toledo Villa
DESCRIPTION:\nThis year AFC Ann Arbor is celebrating their 10th Anniversary
 . All games are scheduled for Pioneer High School's Hollway Field. \n\n\n\
 nIt's AADL Day at the game. Get free admission with your library cand. AAD
 L will be bringing giant games\, stickers\, buttons\, and handing out t-sh
 irts at halftime. There will also be a big Summer Game Code.\n\n\n\nAFC An
 n Arbor Women vs Cleveland Force at Holloway Field in Ann Arbor\, MI on Ma
 y 28\, 2023.\n\n\n\nFor every game:\n\n\n\n\nFree Admission for Kids 13 &a
 mp\; Under\n\n\n\nExpanded Kids' Play Area\n\n\n\n\n\n\n\n
ATTACH;FMTTYPE=image/jpeg:https://annarborwithkids.com/wp-content/uploads/
 afc-ann-arbor-women-take-field-scaled.jpeg
CATEGORIES:Advance Registration,Arbor Annie's Highlights,Charitable
 Event,Display Image,Elementary,High Schoolers,Middle
 Schoolers,Outdoor,Parents,Preschoolers,School Fundraiser,Sport,Toddler
LOCATION:Pioneer High School\, 601 W. Stadium Blvd\, Ann Arbor\, Michigan\,
  48103\, Downtown\, United States
GEO:42.2639996;-83.75463300000001
X-APPLE-STRUCTURED-LOCATION;VALUE=URI;X-ADDRESS=601 W. Stadium Blvd\, Ann A
 rbor\, Michigan\, 48103\, Downtown\, United States;X-APPLE-RADIUS=100;X-TI
 TLE=Pioneer High School:geo:42.2639996,-83.75463300000001
END:VEVENT
BEGIN:VTIMEZONE
TZID:America/Detroit
X-LIC-LOCATION:America/Detroit
BEGIN:DAYLIGHT
DTSTART:20250309T030000
TZOFFSETFROM:-0500
TZOFFSETTO:-0400
TZNAME:EDT
END:DAYLIGHT
END:VTIMEZONE
END:VCALENDAR