BEGIN:VCALENDAR
VERSION:2.0
PRODID:-//wp-events-plugin.com//7.2.3.1//EN
TZID:America/Detroit
X-WR-TIMEZONE:America/Detroit
BEGIN:VEVENT
UID:50305@annarborwithkids.com
DTSTART;TZID=America/Detroit:20190707T173000
DTEND;TZID=America/Detroit:20190707T173000
DTSTAMP:20200729T031501Z
URL:https://annarborwithkids.com/events/aafc-semi-pro-womens-soccer-game-h
 elp-us-set-a-record/
SUMMARY:AAFC semi-pro women's soccer game -- help us set a record!
DESCRIPTION:Your hometown women's semi-pro soccer team is playing their fin
 al match of the season this Sunday\, July 7 at 5:30pm at Saline High Schoo
 l. Help us break a record for the highest attendance at any women's minor 
 league soccer game! Tickets are just $5 and kids under 5 get in free. This
  game also supports the local community we love so much\, with $1 from eve
 ry ticket being donated to Food Gatherers (that's enough for 3 meals!).\n\
 nThis game will be an evening of summer fun for the whole family. There wi
 ll be food trucks\, halftime kids games\, and high level women's soccer. I
 f you buy tickets ahead of time\, you will be entered in a drawing to win 
 a prize!\n\nWe love our community\, and our goal is to support local organ
 izations\, support women's soccer\, and hopefully break a record along the
  way. Please contact Kim Ingraham\, kingraham612@gmail.com\, for any quest
 ions.
CATEGORIES:Arbor Annie's Highlights,Charitable Event,Elementary,Games,High
 Schoolers,Middle Schoolers,Parents,Preschoolers,Sport,Toddler
LOCATION:Saline High School\, 1300 Campus Parkway\, Saline\, Michigan\, 481
 76\, Saline\, United States
GEO:42.187819;-83.7494059
X-APPLE-STRUCTURED-LOCATION;VALUE=URI;X-ADDRESS=1300 Campus Parkway\, Salin
 e\, Michigan\, 48176\, Saline\, United States;X-APPLE-RADIUS=100;X-TITLE=S
 aline High School:geo:42.187819,-83.7494059
END:VEVENT
BEGIN:VTIMEZONE
TZID:America/Detroit
X-LIC-LOCATION:America/Detroit
BEGIN:DAYLIGHT
DTSTART:20190310T030000
TZOFFSETFROM:-0500
TZOFFSETTO:-0400
TZNAME:EDT
END:DAYLIGHT
END:VTIMEZONE
END:VCALENDAR