BEGIN:VCALENDAR
VERSION:2.0
PRODID:-//wp-events-plugin.com//7.2.3.1//EN
TZID:America/Detroit
X-WR-TIMEZONE:America/Detroit
BEGIN:VEVENT
UID:93231@annarborwithkids.com
DTSTART;TZID=America/Detroit:20260428T180000
DTEND;TZID=America/Detroit:20260428T193000
DTSTAMP:20260323T192645Z
URL:https://annarborwithkids.com/events/a2zero-sustainability-forum-celebr
 ating-the-a2zero-community-cookbook/
SUMMARY:A2ZERO Sustainability Forum |  Celebrating the A2ZERO Community Co
 okbook!
DESCRIPTION:\nJoin Ann Arbor's Office of Sustainability and Innovations and
  members of the local food community for the 4th session of the 2026 Susta
 inability Forums to celebrate the recent release of the A2ZERO Community C
 ookbook! Hear from City staff\, local food leaders\, and contributors of t
 he cookbook about how building community through food makes Ann Arbor a mo
 re sustainable and resilient City.\n\n\n\nThis event is in partnership wit
 h Ann Arbor Office of Sustainability and Innovations.\n\n\n\nFor teens &am
 p\; adults. Held in 4th floor program room.\n\n\n\n\n
CATEGORIES:Arbor Annie's Highlights,Earth Day,Environmental,Free,High
 Schoolers,Indoor Activities,Parents
LOCATION:Downtown Branch of AADL\, 343 South Fifth Avenue\, Ann Arbor\, Mic
 higan\, 48104\, Downtown\, United States
GEO:42.278198;-83.745971
X-APPLE-STRUCTURED-LOCATION;VALUE=URI;X-ADDRESS=343 South Fifth Avenue\, An
 n Arbor\, Michigan\, 48104\, Downtown\, United States;X-APPLE-RADIUS=100;X
 -TITLE=Downtown Branch of AADL:geo:42.278198,-83.745971
END:VEVENT
BEGIN:VTIMEZONE
TZID:America/Detroit
X-LIC-LOCATION:America/Detroit
BEGIN:DAYLIGHT
DTSTART:20260308T030000
TZOFFSETFROM:-0500
TZOFFSETTO:-0400
TZNAME:EDT
END:DAYLIGHT
END:VTIMEZONE
END:VCALENDAR