BEGIN:VCALENDAR
VERSION:2.0
PRODID:-//wp-events-plugin.com//7.2.3.1//EN
TZID:America/Detroit
X-WR-TIMEZONE:America/Detroit
BEGIN:VEVENT
UID:86865@annarborwithkids.com
DTSTART;TZID=America/Detroit:20260331T180000
DTEND;TZID=America/Detroit:20260331T193000
DTSTAMP:20260309T195406Z
URL:https://annarborwithkids.com/events/a2zero-sustainability-forum-ann-ar
 bors-sustainable-energy-utility-and-you/
SUMMARY:A2ZERO Sustainability Forum |  Climate Action for Renters: Breakin
 g Barriers to Participation
DESCRIPTION:\nJoin Ann Arbor's Office of Sustainability and Innovations for
  the third session of the 2026 Sustainability Forums to explore how renter
 s can participate in Ann Arbor's energy programs. From the green rental ho
 using ordinance to the home energy advisor program\, the Sustainable Energ
 y Utility\, and beyond\, come to learn and ask questions about how renters
  can increase their comfort\, improve their indoor air quality\, reduce th
 eir emissions\, and more!\n\n\n\nThis event is in partnership with Ann Arb
 or Office of Sustainability and Innovations.\n\n\n\nFor teens &amp\; adult
 s. Held in 4th floor program room.\n\n\n\n\n\n\n
CATEGORIES:Arbor Annie's Highlights,Earth Day,Environmental,Free,High
 Schoolers,Indoor Activities,Parents
LOCATION:Downtown Branch of AADL\, 343 South Fifth Avenue\, Ann Arbor\, Mic
 higan\, 48104\, Downtown\, United States
GEO:42.278198;-83.745971
X-APPLE-STRUCTURED-LOCATION;VALUE=URI;X-ADDRESS=343 South Fifth Avenue\, An
 n Arbor\, Michigan\, 48104\, Downtown\, United States;X-APPLE-RADIUS=100;X
 -TITLE=Downtown Branch of AADL:geo:42.278198,-83.745971
END:VEVENT
BEGIN:VTIMEZONE
TZID:America/Detroit
X-LIC-LOCATION:America/Detroit
BEGIN:DAYLIGHT
DTSTART:20260308T030000
TZOFFSETFROM:-0500
TZOFFSETTO:-0400
TZNAME:EDT
END:DAYLIGHT
END:VTIMEZONE
END:VCALENDAR