BEGIN:VCALENDAR
VERSION:2.0
PRODID:-//wp-events-plugin.com//7.2.3.1//EN
TZID:America/Detroit
X-WR-TIMEZONE:America/Detroit
BEGIN:VEVENT
UID:22875@annarborwithkids.com
DTSTART;TZID=America/Detroit:20261108T074500
DTEND;TZID=America/Detroit:20261108T110000
DTSTAMP:20260326T173030Z
URL:https://annarborwithkids.com/events/a2-turkey-trot-2/
SUMMARY:A2 Turkey Trot
DESCRIPTION:\nThink “November” and visions of roast turkey undoubtedly 
 come to mind. Epic Races invites you to envision — and experience — a 
 totally different take on that famous fall bird with the A2 Turkey Trot. J
 oin them at Hudson Mills Metropark for this annual autumn tradition and en
 joy a late-season run that is fun for the whole family!\n\n\n\n\n5K \n\n\n
 \n10K- two 5K loops\n\n\n\nMasked Potato 1 mile fun run.\n\n\n\nKids 200m 
 Drumstick Dash (8 &amp\; Under - FREE!!)\n\n\n\n\nOr take on the Iron Turk
 ey and run both the 5K and 10K.\n\n\n\n\n\nSchedule\n\n\n\n\n8:55 Kids Dru
 mstick Dash 200M (for ages 8 &amp\; under)\n\n\n\n9:00a 5K starts\n\n\n\n1
 0a 10K starts\n\n\n\n10:30a Mashed Potato 1 Mile Fun Run\n\n\n\n\nPacket P
 ickup details to be announced.\n\n\n\nRegistration\n\n\n\n\nMashed Potato 
 1 Mile Fun Run\n\n$35\n\n\n\nKids 10 &amp\; Under Race Free\n\n\n\n\n\n5K\
 n\nThrough April 29 - $40\n\n\n\nApril 30-October 8 - $45\n\n\n\nOctober 9
 -November 2 - $50\n\n\n\nNovember 3-November 8 - $55\n\n\n\nKids 10 &amp\;
  Under Race Free\n\n\n\n\n\n10K\n\nThrough April 28 - $45\n\n\n\nApril 29-
 July 29 - $50\n\n\n\nJuly 30-October 8 - $55\n\n\n\nOctober 9-November 2 -
  $60\n\n\n\nNovember 3-November 8 - $65\n\n\n\n\n\nIron Turkey\n\nThrough 
 April 28 - $55\n\n\n\nApril 29-July 29 - $60\n\n\n\nJuly 30-October 8 - $6
 5\n\n\n\nOctober 9-November 2 - $70\n\n\n\nNovember 3-November 8 - $75\n\n
 \n\n\n\n\n\n\n\n\nGet Your Turkey Trot Gear!\n\n\n\nGear up in official vi
 ntage Epic gear by donating 10 cans or more to Food Gatherers at the event
 .\n\n\n\n\n10 cans = 1 shirt\n\n\n\n20 cans = 3 shirts\n\n\n\n30 cans = 5 
 shirts\n\n\n\n\n\n\n\n\n\n
CATEGORIES:Advance Registration,Arbor Annie's Highlights,Elementary,High
 Schoolers,Middle Schoolers,Parents,Preschoolers,Race,Sport,Thanksgiving
LOCATION:Hudson Mills Metropark\, 8801 N. Territorial Rd\, Dexter\, Michiga
 n\, 48130\, Dexter\, United States
GEO:42.3866538;-83.9086605
X-APPLE-STRUCTURED-LOCATION;VALUE=URI;X-ADDRESS=8801 N. Territorial Rd\, De
 xter\, Michigan\, 48130\, Dexter\, United States;X-APPLE-RADIUS=100;X-TITL
 E=Hudson Mills Metropark:geo:42.3866538,-83.9086605
END:VEVENT
BEGIN:VTIMEZONE
TZID:America/Detroit
X-LIC-LOCATION:America/Detroit
BEGIN:STANDARD
DTSTART:20261101T010000
TZOFFSETFROM:-0400
TZOFFSETTO:-0500
TZNAME:EST
END:STANDARD
END:VTIMEZONE
END:VCALENDAR