BEGIN:VCALENDAR
VERSION:2.0
PRODID:-//wp-events-plugin.com//7.2.3.1//EN
TZID:America/Detroit
X-WR-TIMEZONE:America/Detroit
BEGIN:VEVENT
UID:77306@annarborwithkids.com
DTSTART;TZID=America/Detroit:20260419T130000
DTEND;TZID=America/Detroit:20260419T153000
DTSTAMP:20260409T180709Z
URL:https://annarborwithkids.com/events/a-world-of-animals-3/
SUMMARY:Animals Have Class | Environmental Adaptations
DESCRIPTION:\nCome to the Discovery Center for our first live-animal progra
 m since renovations were completed. Science Alive will present two program
 s with live animals investigating the fundamentals of animal classificatio
 n\, highlighting all the vertebrate groups and addressing their unique cha
 racteristics. The programs will also examine the adaptive characteristics 
 of these animals\, their role in the animal’s survival and how the envir
 onment impacts adaptation. \n\n\n\nCost: $2/person or $5/family.&nbsp\; Ed
 dy Discovery Center\, 17030 Bush Rd. in the Waterloo Recreation Area near 
 Chelsea. &nbsp\;\n\n\n\nPlease register for this program by emailing water
 loonha@gmail.com with your name\, phone number and number of people attend
 ing. ***Please specify which presentation you wish to attend***\n\n\n\nSea
 ting limited\, so please register in advance at 734-475-3170\n\n\n\n\n
CATEGORIES:Advance Registration,Animals,Arbor Annie's
 Highlights,Elementary,High Schoolers,Middle Schoolers,Parents,Preschoolers
LOCATION:Eddy Discovery Center\, 17030 Bush Rd\, Chelsea\, Michigan\, 48118
 \, Chelsea\, United States
GEO:42.3298572;-84.08067299999999
X-APPLE-STRUCTURED-LOCATION;VALUE=URI;X-ADDRESS=17030 Bush Rd\, Chelsea\, M
 ichigan\, 48118\, Chelsea\, United States;X-APPLE-RADIUS=100;X-TITLE=Eddy 
 Discovery Center:geo:42.3298572,-84.08067299999999
END:VEVENT
BEGIN:VTIMEZONE
TZID:America/Detroit
X-LIC-LOCATION:America/Detroit
BEGIN:DAYLIGHT
DTSTART:20260308T030000
TZOFFSETFROM:-0500
TZOFFSETTO:-0400
TZNAME:EDT
END:DAYLIGHT
END:VTIMEZONE
END:VCALENDAR