BEGIN:VCALENDAR
VERSION:2.0
PRODID:-//wp-events-plugin.com//7.2.3.1//EN
TZID:America/Detroit
X-WR-TIMEZONE:America/Detroit
BEGIN:VEVENT
UID:62983@annarborwithkids.com
DTSTART;TZID=America/Detroit:20260628T220000
DTEND;TZID=America/Detroit:20260628T235900
DTSTAMP:20260325T201821Z
URL:https://annarborwithkids.com/events/a-league-of-their-own-top-of-the-p
 ark-movie/
SUMMARY:It's a Wonderful Life - 80th Anniversary - Top of the Park Movie
DESCRIPTION:\nMovies by Moonlight at Top of the Park concludes with It's a 
 Wonderful Life which is celebrating it's 80th anniversary\n\n\n\nIt's a Wo
 nderful Life is rated PG. The movie is 2hr 10 minutes.\n\n\n\n\n\n\n
CATEGORIES:Arbor Annie's Highlights,Elementary,Free,High Schoolers,Middle
 Schoolers,Movies,Parents
LOCATION:Top of the Park\, 915 E. Washington St\, Ann Arbor\, Michigan\, 48
 109\, University of Michigan\, United States
GEO:42.2807892;-83.73815560000003
X-APPLE-STRUCTURED-LOCATION;VALUE=URI;X-ADDRESS=915 E. Washington St\, Ann 
 Arbor\, Michigan\, 48109\, University of Michigan\, United States;X-APPLE-
 RADIUS=100;X-TITLE=Top of the Park:geo:42.2807892,-83.73815560000003
END:VEVENT
BEGIN:VTIMEZONE
TZID:America/Detroit
X-LIC-LOCATION:America/Detroit
BEGIN:DAYLIGHT
DTSTART:20260308T030000
TZOFFSETFROM:-0500
TZOFFSETTO:-0400
TZNAME:EDT
END:DAYLIGHT
END:VTIMEZONE
END:VCALENDAR