BEGIN:VCALENDAR
VERSION:2.0
PRODID:-//wp-events-plugin.com//7.2.3.1//EN
TZID:America/Detroit
X-WR-TIMEZONE:America/Detroit
BEGIN:VEVENT
UID:92861@annarborwithkids.com
DTSTART;TZID=America/Detroit;VALUE=DATE:20260327
DTEND;TZID=America/Detroit;VALUE=DATE:20260328
DTSTAMP:20260309T182305Z
URL:https://annarborwithkids.com/events/64th-ann-arbor-film-festival-2026-
 03-24-2026-03-25-2026-03-26-2026-03-27/
SUMMARY:64th Ann Arbor Film Festival
DESCRIPTION:\nFounded in 1963\, the Ann Arbor Film Festival is the oldest i
 ndependent and experimental film festival in North America. The week-long 
 event is dedicated to promoting bold\, visionary filmmakers through the ad
 vancement of film and new media art\, and engaging communities with remark
 able cinematic experiences. \n\n\n\nThe 64th AAFF will be a hybrid event\,
  with online and in-person options for attendees. Online passes will allow
  access to most in-competition films and juror programs as well as an onli
 ne film forum and filmmaker interviews. For more information\, visit https
 ://www.aafilmfest.org/\n
CATEGORIES:Advance Registration,Arbor Annie's Highlights,Elementary,High
 Schoolers,Middle Schoolers,Movies,Optional
 Registration,Parents,Preschoolers
LOCATION:Michigan Theater\, 603 E. Liberty St\, Ann Arbor\, MI\, 48104\, Do
 wntown\, United States
GEO:42.279704;-83.742019
X-APPLE-STRUCTURED-LOCATION;VALUE=URI;X-ADDRESS=603 E. Liberty St\, Ann Arb
 or\, MI\, 48104\, Downtown\, United States;X-APPLE-RADIUS=100;X-TITLE=Mich
 igan Theater:geo:42.279704,-83.742019
END:VEVENT
BEGIN:VTIMEZONE
TZID:America/Detroit
X-LIC-LOCATION:America/Detroit
BEGIN:DAYLIGHT
DTSTART:20260308T030000
TZOFFSETFROM:-0500
TZOFFSETTO:-0400
TZNAME:EDT
END:DAYLIGHT
END:VTIMEZONE
END:VCALENDAR