BEGIN:VCALENDAR
VERSION:2.0
PRODID:-//wp-events-plugin.com//7.2.3.1//EN
TZID:America/Detroit
X-WR-TIMEZONE:America/Detroit
BEGIN:VEVENT
UID:87837@annarborwithkids.com
DTSTART;TZID=America/Detroit:20250704T090000
DTEND;TZID=America/Detroit:20250704T143000
DTSTAMP:20250626T212140Z
URL:https://annarborwithkids.com/events/4th-of-july-craft-play/
SUMMARY:4th of July Craft &amp\; Play
DESCRIPTION:\nHide and Seek – A Play Boutique will host a special Craft &
 amp\; Play event on 4th of July. There will be a craft activity and Open P
 lay time.\n\n\n\nThe play area is ust for kids up to 6 years old. Older ki
 ds can just do the craft.\n\n\n\nThere will be hot &amp\; iced coffee\, te
 a\, and snacks for you to purchase while you relax in the cafe area.\n\n\n
 \nThere are 3 90 minute sessions starting at 9a\, 11a\, or 1p.\n\n\n\nPric
 e: $16 per child \n\n\n\nBook now!\n\n\n\nSpace is limited!\n\n\n\n\n
CATEGORIES:Advance Registration,Arbor Annie's
 Highlights,Crafts,Elementary,Independence Day,Indoor
 Activities,Playgroup,Preschoolers,Registration Required,Toddler
LOCATION:Hide and Seek Play Boutique\, 1954 S Industrial Hwy\, Suite A\, An
 n Arbor\, Michigan\, 48104\, United States
GEO:42.258329;-83.738722
X-APPLE-STRUCTURED-LOCATION;VALUE=URI;X-ADDRESS=1954 S Industrial Hwy\, Sui
 te A\, Ann Arbor\, Michigan\, 48104\, United States;X-APPLE-RADIUS=100;X-T
 ITLE=Hide and Seek Play Boutique:geo:42.258329,-83.738722
END:VEVENT
BEGIN:VTIMEZONE
TZID:America/Detroit
X-LIC-LOCATION:America/Detroit
BEGIN:DAYLIGHT
DTSTART:20250309T030000
TZOFFSETFROM:-0500
TZOFFSETTO:-0400
TZNAME:EDT
END:DAYLIGHT
END:VTIMEZONE
END:VCALENDAR