BEGIN:VCALENDAR
VERSION:2.0
PRODID:-//wp-events-plugin.com//7.2.3.1//EN
TZID:America/Detroit
X-WR-TIMEZONE:America/Detroit
BEGIN:VEVENT
UID:37525@annarborwithkids.com
DTSTART;TZID=America/Detroit:20260329T100000
DTEND;TZID=America/Detroit:20260329T170000
DTSTAMP:20260312T214647Z
URL:https://annarborwithkids.com/events/46th-annual-dance-mother-earth-pow
 wow/
SUMMARY:52nd Annual Dance for Mother Earth Powwow
DESCRIPTION:\nThe Native American Student Association at University of Mich
 igan holds the Dance for Mother Earth Powwow every spring - typically duri
 ng the AAPS Spring Break.\n\n\n\nAdmission is $10/day for adults\, $5 for 
 children &amp\; teens (ages 6-17) and seniors (62+)\, and free for childre
 n 5 &amp\; under. UM students are free. Weekend passes are $15/adults\, $8
 /kids\, teens &amp\; seniors and free for children 5 &amp\; under. Family 
 tickets (2 adults and 2 kids) are available for $25/day or $35/weekend.\n\
 n\n\nAs of March 12\, they have not posted the daily schedule.\n
CATEGORIES:Arbor Annie's Highlights,BIPOC,Cultural
 Celebration,Elementary,High Schoolers,Indoor Activities,Middle
 Schoolers,Parents,Preschoolers,Toddler
LOCATION:Skyline High School\, 2552 N. Maple\, Ann Arbor\, Michigan\, 48103
 \, West Ann Arbor\, United States
GEO:42.30482;-83.77894320000001
X-APPLE-STRUCTURED-LOCATION;VALUE=URI;X-ADDRESS=2552 N. Maple\, Ann Arbor\,
  Michigan\, 48103\, West Ann Arbor\, United States;X-APPLE-RADIUS=100;X-TI
 TLE=Skyline High School:geo:42.30482,-83.77894320000001
END:VEVENT
BEGIN:VTIMEZONE
TZID:America/Detroit
X-LIC-LOCATION:America/Detroit
BEGIN:DAYLIGHT
DTSTART:20260308T030000
TZOFFSETFROM:-0500
TZOFFSETTO:-0400
TZNAME:EDT
END:DAYLIGHT
END:VTIMEZONE
END:VCALENDAR