BEGIN:VCALENDAR
VERSION:2.0
PRODID:-//wp-events-plugin.com//7.2.3.1//EN
TZID:America/Detroit
X-WR-TIMEZONE:America/Detroit
BEGIN:VEVENT
UID:93447@annarborwithkids.com
DTSTART;TZID=America/Detroit:20260422T170000
DTEND;TZID=America/Detroit:20260422T193000
DTSTAMP:20260401T204329Z
URL:https://annarborwithkids.com/events/2nd-annual-yom-haatzmaut-israeli-b
 lock-party/
SUMMARY:2nd Annual Yom HaAtzmaut Israeli Block Party
DESCRIPTION:\nSecond annual Israeli Block Party! Come celebrate Israel's In
 dependence Day. The most fun you will have in Israel… in Ann Arbor.\n\n\
 n\n\nLIVE MUSIC from Israel with HaShayara!\n\n\n\nFood and Drinks availab
 le for purchase!\n\n\n\nLawn Games!\n\n\n\nArt and Experiences Tour throug
 h Israel!\n\n\n\nPetting Zoo!\n\n\n\nChildren's Activities!\n\n\n\n\nThis 
 will be a large event with games\, food\, and fun\n\n\n\nLocation will be 
 provided after registration.\n
CATEGORIES:Advance Registration,Animals,Babies,Cultural
 Celebration,Elementary,Food,High Schoolers,Indoor Activities,Middle
 Schoolers,Music/Concerts,Preschoolers,Registration Required,Toddler
END:VEVENT
BEGIN:VTIMEZONE
TZID:America/Detroit
X-LIC-LOCATION:America/Detroit
BEGIN:DAYLIGHT
DTSTART:20260308T030000
TZOFFSETFROM:-0500
TZOFFSETTO:-0400
TZNAME:EDT
END:DAYLIGHT
END:VTIMEZONE
END:VCALENDAR