BEGIN:VCALENDAR
VERSION:2.0
PRODID:-//wp-events-plugin.com//7.2.3.1//EN
TZID:America/Detroit
X-WR-TIMEZONE:America/Detroit
BEGIN:VEVENT
UID:54362@annarborwithkids.com
DTSTART;TZID=America/Detroit:20251031T130000
DTEND;TZID=America/Detroit:20251031T150000
DTSTAMP:20251022T182853Z
URL:https://annarborwithkids.com/events/2nd-annual-community-trick-or-trea
 t/
SUMMARY:Community Trick or Treat
DESCRIPTION:\nBring your little ghosts and goblins to a Trick or Treat even
 t at The Cedars of Dexter!\n\n\n\nThey invite you to spread joy to our res
 idents while trick or treating through the Clubhouse.\n\n\n\nJoin them for
  candy\, cider and donuts\, and lots of smiles!  \n\n\n\n\n\n\n\n\n
CATEGORIES:Arbor Annie's
 Highlights,Free,Halloween,Preschoolers,Toddler,Trick or Treat
LOCATION:The Cedars of Dexter\, 411 Cedars Lane\, Dexter\, Michigan\, 48130
 \, Dexter\, United States
GEO:42.3424833;-83.89941469999997
X-APPLE-STRUCTURED-LOCATION;VALUE=URI;X-ADDRESS=411 Cedars Lane\, Dexter\, 
 Michigan\, 48130\, Dexter\, United States;X-APPLE-RADIUS=100;X-TITLE=The C
 edars of Dexter:geo:42.3424833,-83.89941469999997
END:VEVENT
BEGIN:VTIMEZONE
TZID:America/Detroit
X-LIC-LOCATION:America/Detroit
BEGIN:DAYLIGHT
DTSTART:20250309T030000
TZOFFSETFROM:-0500
TZOFFSETTO:-0400
TZNAME:EDT
END:DAYLIGHT
END:VTIMEZONE
END:VCALENDAR