BEGIN:VCALENDAR
VERSION:2.0
PRODID:-//wp-events-plugin.com//7.2.3.1//EN
TZID:America/Detroit
X-WR-TIMEZONE:America/Detroit
BEGIN:VEVENT
UID:36473@annarborwithkids.com
DTSTART;TZID=America/Detroit:20171202T080000
DTEND;TZID=America/Detroit:20171202T210000
DTSTAMP:20200726T233423Z
URL:https://annarborwithkids.com/events/242-community-center-grand-opening
 /
SUMMARY:2|42 Community Center Grand Opening
DESCRIPTION:2|42 Community Center is now open!\n\nThis is a free\, 7day a w
 eek indoor facility. Two story play-structure\, turf field\, toddler speci
 fic play area and foam pit. There's something for toddlers to 12 years old
  as well as an interactive tree house space for 12+. The Cafe is here to s
 erve you. Speciality coffee and smoothie drinks as well as cookies\, pastr
 ies\, wraps\, salads and soups are available for purchase.\n\n[gallery typ
 e="rectangular" size="medium" ids="58003\,58004\,58005"]\n\nHours of opera
 tion\n\nMonday - Saturday: 8am to 9pm\n\nSunday: 8am to 4pm\n\nLocation an
 d Details\n\n648 S. Wagner\n\nAnn Arbor MI 48103\n\n734-707-4995 | Info@24
 2Community.com\n\nFind us Facebook at 2|42 Community Center\n\nNo religiou
 s affiliation or membership required. Come on up and check it out. \n\n\n
 \nEditor's Note: 2|42 Community Center is run by the 2|42 Church. We recog
 nize that our readership includes both church members and those who object
  to the church's stance particularly on LGBTQ issues.\n\n \n\nThis was a s
 ponsored event listing. We accept advertising and event listings from a va
 riety of religious institutions for non-worship activities. It is included
  here as one of the few indoor playground options in Ann Arbor and leave i
 t to families to decide if it is the right option for their family.\n\n
ATTACH;FMTTYPE=image/jpeg:https://annarborwithkids.com/wp-content/uploads/
 2017/11/242-community-center.png
CATEGORIES:Age Range,Arbor Annie's Highlights,Display
 Image,Elementary,Free,High Schoolers,Indoor Activities,Middle
 Schoolers,Parents,Preschoolers,Sponsoring Event,Toddler
LOCATION:2|42 Community Church\, 648 S Wagner Rd\, Ann Arbor\, MI\, 48103\,
  United States
GEO:42.2759264;-83.8017744
X-APPLE-STRUCTURED-LOCATION;VALUE=URI;X-ADDRESS=648 S Wagner Rd\, Ann Arbor
 \, MI\, 48103\, United States;X-APPLE-RADIUS=100;X-TITLE=2|42 Community Ch
 urch:geo:42.2759264,-83.8017744
END:VEVENT
BEGIN:VTIMEZONE
TZID:America/Detroit
X-LIC-LOCATION:America/Detroit
BEGIN:STANDARD
DTSTART:20171105T010000
TZOFFSETFROM:-0400
TZOFFSETTO:-0500
TZNAME:EST
END:STANDARD
END:VTIMEZONE
END:VCALENDAR