BEGIN:VCALENDAR
VERSION:2.0
PRODID:-//wp-events-plugin.com//7.2.3.1//EN
TZID:America/Detroit
X-WR-TIMEZONE:America/Detroit
BEGIN:VEVENT
UID:22997@annarborwithkids.com
DTSTART;TZID=America/Detroit:20251206T180000
DTEND;TZID=America/Detroit:20251206T183000
DTSTAMP:20251022T211022Z
URL:https://annarborwithkids.com/events/10th-annual-chelsea-lights-parade-
 sing-along-2/
SUMMARY:Chelsea Lights Parade
DESCRIPTION:\nJoin Chelsea Hometown Holidays for their Annual Chelsea Light
 s Parade along Main Street from Old US 12 to Jackson St. The parade will i
 nclude lights\, floats bands\, and of course Santa. Parade starts Old US 1
 2 and ends at Middle Street\n\n\n\n\n\n\n\n\n
CATEGORIES:Age Range,Arbor Annie's
 Highlights,Babies,Christmas,Elementary,Free,High Schoolers,Holidays,Middle
 Schoolers,Parade,Parents,Preschoolers,Toddler
LOCATION:Downtown Chelsea\, Main St and Middle St\, Chelsea\, Michigan\, Ch
 elsea\, United States
GEO:42.31813;-84.02050729999996
X-APPLE-STRUCTURED-LOCATION;VALUE=URI;X-ADDRESS=Main St and Middle St\, Che
 lsea\, Michigan\, Chelsea\, United States;X-APPLE-RADIUS=100;X-TITLE=Downt
 own Chelsea:geo:42.31813,-84.02050729999996
END:VEVENT
BEGIN:VTIMEZONE
TZID:America/Detroit
X-LIC-LOCATION:America/Detroit
BEGIN:STANDARD
DTSTART:20251102T010000
TZOFFSETFROM:-0400
TZOFFSETTO:-0500
TZNAME:EST
END:STANDARD
END:VTIMEZONE
END:VCALENDAR